BEGIN:VCALENDAR
VERSION:2.0
PRODID:-//time.you/holidays//NONSGML v1.0//EN
BEGIN:VEVENT
UID:617dfcb1-4832-4439-9c13-171827af6b20
DTSTAMP:20260419T204939Z
DTSTART;VALUE=DATE:20260704
SUMMARY:Boa Vista Municipality Day (Cabo Verde)
END:VEVENT
END:VCALENDAR