BEGIN:VCALENDAR
VERSION:2.0
PRODID:-//time.you/holidays//NONSGML v1.0//EN
BEGIN:VEVENT
UID:ec636929-4ccf-4246-a9cd-7f2df656c3d2
DTSTAMP:20260419T204549Z
DTSTART;VALUE=DATE:20260217
SUMMARY:Carnival Tuesday (Cabo Verde)
END:VEVENT
END:VCALENDAR