BEGIN:VCALENDAR
VERSION:2.0
PRODID:-//time.you/holidays//NONSGML v1.0//EN
BEGIN:VEVENT
UID:8c078f70-9cf6-4d07-841b-a4fc43614649
DTSTAMP:20260421T230920Z
DTSTART;VALUE=DATE:20260405
SUMMARY:Easter Sunday (Cabo Verde)
END:VEVENT
END:VCALENDAR