BEGIN:VCALENDAR
VERSION:2.0
PRODID:-//time.you/holidays//NONSGML v1.0//EN
BEGIN:VEVENT
UID:57e85aa3-e1e5-4954-8951-e74dfd787550
DTSTAMP:20260419T204851Z
DTSTART;VALUE=DATE:20260908
SUMMARY:Maio Municipality Day (Cabo Verde)
END:VEVENT
END:VCALENDAR