BEGIN:VCALENDAR
VERSION:2.0
PRODID:-//time.you/holidays//NONSGML v1.0//EN
BEGIN:VEVENT
UID:ab0eb0ce-59ba-4760-8651-f4d458fe99fe
DTSTAMP:20260420T084413Z
DTSTART;VALUE=DATE:20260120
SUMMARY:National Heroes Day (Cabo Verde)
END:VEVENT
END:VCALENDAR