BEGIN:VCALENDAR
VERSION:2.0
PRODID:-//time.you/holidays//NONSGML v1.0//EN
BEGIN:VEVENT
UID:484b7e63-758f-4f3e-a166-750efe6a1722
DTSTAMP:20260419T205935Z
DTSTART;VALUE=DATE:20260902
SUMMARY:Porto Novo Municipality Day (Cabo Verde)
END:VEVENT
END:VCALENDAR