BEGIN:VCALENDAR
VERSION:2.0
PRODID:-//time.you/holidays//NONSGML v1.0//EN
BEGIN:VEVENT
UID:23713365-3a71-4718-a09c-5e4488782542
DTSTAMP:20260419T220645Z
DTSTART;VALUE=DATE:20261206
SUMMARY:Ribeira Brava Municipality Day (Cabo Verde)
END:VEVENT
END:VCALENDAR