BEGIN:VCALENDAR
VERSION:2.0
PRODID:-//time.you/holidays//NONSGML v1.0//EN
BEGIN:VEVENT
UID:d7382f21-7fa1-4d1d-b597-0f20aba97980
DTSTAMP:20260419T204939Z
DTSTART;VALUE=DATE:20260507
SUMMARY:Ribeira Grande Municipality Day (Cabo Verde)
END:VEVENT
END:VCALENDAR