BEGIN:VCALENDAR
VERSION:2.0
PRODID:-//time.you/holidays//NONSGML v1.0//EN
BEGIN:VEVENT
UID:c62430f9-bd43-440b-adca-d66d70729d45
DTSTAMP:20260419T221708Z
DTSTART;VALUE=DATE:20260929
SUMMARY:São Miguel Municipality Day (Cabo Verde)
END:VEVENT
END:VCALENDAR