BEGIN:VCALENDAR
VERSION:2.0
PRODID:-//time.you/holidays//NONSGML v1.0//EN
BEGIN:VEVENT
UID:dcb70299-c603-46b6-90e3-80d3634100f1
DTSTAMP:20260419T221707Z
DTSTART;VALUE=DATE:20261125
SUMMARY:Santa Catarina do Fogo Municipality Day (Cabo Verde)
END:VEVENT
END:VCALENDAR