BEGIN:VCALENDAR
VERSION:2.0
PRODID:-//time.you/holidays//NONSGML v1.0//EN
BEGIN:VEVENT
UID:da782285-71a0-4f16-9d25-d720ecb205c7
DTSTAMP:20260419T204939Z
DTSTART;VALUE=DATE:20260725
SUMMARY:Santa Cruz Municipality Day (Cabo Verde)
END:VEVENT
END:VCALENDAR