BEGIN:VCALENDAR
VERSION:2.0
PRODID:-//time.you/holidays//NONSGML v1.0//EN
BEGIN:VEVENT
UID:7a70398f-c282-4018-b506-033252a369c1
DTSTAMP:20260424T043954Z
DTSTART;VALUE=DATE:20260501
SUMMARY:Worker's Day (Cabo Verde)
END:VEVENT
END:VCALENDAR