BEGIN:VCALENDAR
VERSION:2.0
PRODID:-//time.you/holidays//NONSGML v1.0//EN
BEGIN:VEVENT
UID:c4dc5c14-fe94-4a9f-82f0-37eac839583e
DTSTAMP:20260422T071630Z
DTSTART;VALUE=DATE:20260107
SUMMARY:Day of Victory over the Genocidal Regime (Cambodia)
END:VEVENT
END:VCALENDAR