BEGIN:VCALENDAR
VERSION:2.0
PRODID:-//time.you/holidays//NONSGML v1.0//EN
BEGIN:VEVENT
UID:44368e6c-c5e9-4c54-9261-1ae4e73e37e1
DTSTAMP:20260422T070940Z
DTSTART;VALUE=DATE:20260514
SUMMARY:HM King Norodom Sihamoni's Birthday (Cambodia)
END:VEVENT
END:VCALENDAR