BEGIN:VCALENDAR
VERSION:2.0
PRODID:-//time.you/holidays//NONSGML v1.0//EN
BEGIN:VEVENT
UID:3421eccb-d470-4d86-899b-1df6f915e5cc
DTSTAMP:20260420T084906Z
DTSTART;VALUE=DATE:20260501
SUMMARY:International Labor Day; Visaka Bochea Day (Cambodia)
END:VEVENT
END:VCALENDAR