BEGIN:VCALENDAR
VERSION:2.0
PRODID:-//time.you/holidays//NONSGML v1.0//EN
BEGIN:VEVENT
UID:2c7e3b6e-20fd-4d4f-985b-10b3c3fe246e
DTSTAMP:20260424T152842Z
DTSTART;VALUE=DATE:20270501
SUMMARY:International Labor Day (Cambodia)
END:VEVENT
END:VCALENDAR