BEGIN:VCALENDAR
VERSION:2.0
PRODID:-//time.you/holidays//NONSGML v1.0//EN
BEGIN:VEVENT
UID:93b585d9-f463-4d2c-897d-b8d36d1d39f0
DTSTAMP:20260420T125850Z
DTSTART;VALUE=DATE:20261229
SUMMARY:Peace Day in Cambodia (Cambodia)
END:VEVENT
END:VCALENDAR