BEGIN:VCALENDAR
VERSION:2.0
PRODID:-//time.you/holidays//NONSGML v1.0//EN
BEGIN:VEVENT
UID:028cff60-8e89-4632-8329-9de42e88bbc4
DTSTAMP:20260421T235535Z
DTSTART;VALUE=DATE:20261124
SUMMARY:Water Festival (Cambodia)
END:VEVENT
END:VCALENDAR