BEGIN:VCALENDAR
VERSION:2.0
PRODID:-//time.you/holidays//NONSGML v1.0//EN
BEGIN:VEVENT
UID:daa9e416-99ae-45c8-9bc2-7d58d3202be5
DTSTAMP:20260423T221056Z
DTSTART;VALUE=DATE:20210513
SUMMARY:Ascension Day; Eid al-Fitr (Cameroon)
END:VEVENT
END:VCALENDAR