BEGIN:VCALENDAR
VERSION:2.0
PRODID:-//time.you/holidays//NONSGML v1.0//EN
BEGIN:VEVENT
UID:3b68bcbe-c0f6-4d7b-aa7f-f8b2304baf66
DTSTAMP:20260424T230245Z
DTSTART;VALUE=DATE:20260514
SUMMARY:Ascension Day (Cameroon)
END:VEVENT
END:VCALENDAR