BEGIN:VCALENDAR
VERSION:2.0
PRODID:-//time.you/holidays//NONSGML v1.0//EN
BEGIN:VEVENT
UID:174e4519-5815-4a61-b04a-ca9057c93519
DTSTAMP:20260424T021415Z
DTSTART;VALUE=DATE:20270816
SUMMARY:Assumption Day (observed) (Cameroon)
END:VEVENT
END:VCALENDAR