BEGIN:VCALENDAR
VERSION:2.0
PRODID:-//time.you/holidays//NONSGML v1.0//EN
BEGIN:VEVENT
UID:eba365c8-610c-4770-a9f8-e770ffdb02e6
DTSTAMP:20260421T153441Z
DTSTART;VALUE=DATE:20260527
SUMMARY:Eid al-Adha (estimated) (Cameroon)
END:VEVENT
END:VCALENDAR