BEGIN:VCALENDAR
VERSION:2.0
PRODID:-//time.you/holidays//NONSGML v1.0//EN
BEGIN:VEVENT
UID:a4e649ab-b2ad-4658-9e59-90496f13add7
DTSTAMP:20260424T091139Z
DTSTART;VALUE=DATE:20330103
SUMMARY:Eid al-Fitr (observed, estimated) (Cameroon)
END:VEVENT
END:VCALENDAR