BEGIN:VCALENDAR
VERSION:2.0
PRODID:-//time.you/holidays//NONSGML v1.0//EN
BEGIN:VEVENT
UID:65662b72-b053-4711-83e5-a652a5edd298
DTSTAMP:20260420T184930Z
DTSTART;VALUE=DATE:20221008
SUMMARY:Mawlid (Cameroon)
END:VEVENT
END:VCALENDAR