BEGIN:VCALENDAR
VERSION:2.0
PRODID:-//time.you/holidays//NONSGML v1.0//EN
BEGIN:VEVENT
UID:3018ec62-9acc-40c6-90d1-6cc0ceabf952
DTSTAMP:20260420T073809Z
DTSTART;VALUE=DATE:20260520
SUMMARY:National Day (Cameroon)
END:VEVENT
END:VCALENDAR