BEGIN:VCALENDAR
VERSION:2.0
PRODID:-//time.you/holidays//NONSGML v1.0//EN
BEGIN:VEVENT
UID:98eabb63-d263-4ad7-ad04-2a126c6739a6
DTSTAMP:20260421T204849Z
DTSTART;VALUE=DATE:20340102
SUMMARY:New Year's Day (observed) (Cameroon)
END:VEVENT
END:VCALENDAR