BEGIN:VCALENDAR
VERSION:2.0
PRODID:-//time.you/holidays//NONSGML v1.0//EN
BEGIN:VEVENT
UID:1d9a3c58-11ee-4506-bc96-e9ce3828f09c
DTSTAMP:20260421T195525Z
DTSTART;VALUE=DATE:20260101
SUMMARY:New Year's Day (Cameroon)
END:VEVENT
END:VCALENDAR