BEGIN:VCALENDAR
VERSION:2.0
PRODID:-//time.you/holidays//NONSGML v1.0//EN
BEGIN:VEVENT
UID:b3e75988-b56b-4f17-8235-400d03f511cf
DTSTAMP:20260420T231908Z
DTSTART;VALUE=DATE:20261226
SUMMARY:Boxing Day (Canada)
END:VEVENT
END:VCALENDAR