BEGIN:VCALENDAR
VERSION:2.0
PRODID:-//time.you/holidays//NONSGML v1.0//EN
BEGIN:VEVENT
UID:45577561-9620-48f9-8474-21f253167b3f
DTSTAMP:20260420T184800Z
DTSTART;VALUE=DATE:20260803
SUMMARY:Civic Holiday (Canada)
END:VEVENT
END:VCALENDAR