BEGIN:VCALENDAR
VERSION:2.0
PRODID:-//time.you/holidays//NONSGML v1.0//EN
BEGIN:VEVENT
UID:07612ed5-695f-48e5-b0b5-200a5a615d53
DTSTAMP:20260420T073233Z
DTSTART;VALUE=DATE:20260817
SUMMARY:Discovery Day (Canada)
END:VEVENT
END:VCALENDAR