BEGIN:VCALENDAR
VERSION:2.0
PRODID:-//time.you/holidays//NONSGML v1.0//EN
BEGIN:VEVENT
UID:7d69033e-3423-4242-b6f6-c088474d9b16
DTSTAMP:20260420T184118Z
DTSTART;VALUE=DATE:20260403
SUMMARY:Good Friday (Canada)
END:VEVENT
END:VCALENDAR