BEGIN:VCALENDAR
VERSION:2.0
PRODID:-//time.you/holidays//NONSGML v1.0//EN
BEGIN:VEVENT
UID:5b674e7e-8ecf-4345-a445-3804582b7930
DTSTAMP:20260420T190324Z
DTSTART;VALUE=DATE:20260216
SUMMARY:Heritage Day (Canada)
END:VEVENT
END:VCALENDAR