BEGIN:VCALENDAR
VERSION:2.0
PRODID:-//time.you/holidays//NONSGML v1.0//EN
BEGIN:VEVENT
UID:63716c9f-c4ac-44ef-8f3c-63c47602072b
DTSTAMP:20260423T162911Z
DTSTART;VALUE=DATE:20260216
SUMMARY:Islander Day (Canada)
END:VEVENT
END:VCALENDAR