BEGIN:VCALENDAR
VERSION:2.0
PRODID:-//time.you/holidays//NONSGML v1.0//EN
BEGIN:VEVENT
UID:996eb9dc-0fb4-4ebf-a93c-0b94eb95725d
DTSTAMP:20260420T184110Z
DTSTART;VALUE=DATE:20260907
SUMMARY:Labor Day (Canada)
END:VEVENT
END:VCALENDAR