BEGIN:VCALENDAR
VERSION:2.0
PRODID:-//time.you/holidays//NONSGML v1.0//EN
BEGIN:VEVENT
UID:2882e2b4-fd14-4fe0-82c6-a3f82a64fc4c
DTSTAMP:20260420T182803Z
DTSTART;VALUE=DATE:20260621
SUMMARY:National Aboriginal Day (Canada)
END:VEVENT
END:VCALENDAR