BEGIN:VCALENDAR
VERSION:2.0
PRODID:-//time.you/holidays//NONSGML v1.0//EN
BEGIN:VEVENT
UID:494d7c90-afd4-4290-9f45-e58f3d67136d
DTSTAMP:20260422T064229Z
DTSTART;VALUE=DATE:20260518
SUMMARY:National Patriots' Day (Canada)
END:VEVENT
END:VCALENDAR