BEGIN:VCALENDAR
VERSION:2.0
PRODID:-//time.you/holidays//NONSGML v1.0//EN
BEGIN:VEVENT
UID:af68c65f-20c0-48dd-9fee-5742097ddf8f
DTSTAMP:20260423T133925Z
DTSTART;VALUE=DATE:20261111
SUMMARY:Remembrance Day (Canada)
END:VEVENT
END:VCALENDAR