BEGIN:VCALENDAR
VERSION:2.0
PRODID:-//time.you/holidays//NONSGML v1.0//EN
BEGIN:VEVENT
UID:15b99be2-9522-4a25-a683-6af350ec8e24
DTSTAMP:20260420T070815Z
DTSTART;VALUE=DATE:20260803
SUMMARY:Saskatchewan Day (Canada)
END:VEVENT
END:VCALENDAR