BEGIN:VCALENDAR
VERSION:2.0
PRODID:-//time.you/holidays//NONSGML v1.0//EN
BEGIN:VEVENT
UID:41c26cca-163f-45ec-a9e1-aacdddf6fd5b
DTSTAMP:20260419T234857Z
DTSTART;VALUE=DATE:20261228
SUMMARY:Boxing Day (observed) (Cayman Islands)
END:VEVENT
END:VCALENDAR