BEGIN:VCALENDAR
VERSION:2.0
PRODID:-//time.you/holidays//NONSGML v1.0//EN
BEGIN:VEVENT
UID:7217ee79-5344-48c6-a80b-5f73e305f2d1
DTSTAMP:20260419T234150Z
DTSTART;VALUE=DATE:20261226
SUMMARY:Boxing Day (Cayman Islands)
END:VEVENT
END:VCALENDAR