BEGIN:VCALENDAR
VERSION:2.0
PRODID:-//time.you/holidays//NONSGML v1.0//EN
BEGIN:VEVENT
UID:3c94fb11-a8de-4f10-b4f4-7bc004998101
DTSTAMP:20260421T194601Z
DTSTART;VALUE=DATE:20271227
SUMMARY:Christmas Day (observed) (Cayman Islands)
END:VEVENT
END:VCALENDAR