BEGIN:VCALENDAR
VERSION:2.0
PRODID:-//time.you/holidays//NONSGML v1.0//EN
BEGIN:VEVENT
UID:7b746304-ce9d-4db9-b55d-ed434c24ff22
DTSTAMP:20260421T215353Z
DTSTART;VALUE=DATE:20261225
SUMMARY:Christmas Day (Cayman Islands)
END:VEVENT
END:VCALENDAR