BEGIN:VCALENDAR
VERSION:2.0
PRODID:-//time.you/holidays//NONSGML v1.0//EN
BEGIN:VEVENT
UID:b66b2b3e-4310-4634-85f3-bb0a9b8b898d
DTSTAMP:20260419T234151Z
DTSTART;VALUE=DATE:20260518
SUMMARY:Discovery Day (Cayman Islands)
END:VEVENT
END:VCALENDAR