BEGIN:VCALENDAR
VERSION:2.0
PRODID:-//time.you/holidays//NONSGML v1.0//EN
BEGIN:VEVENT
UID:ba660428-d9b2-4113-b913-f3c7d0c674d4
DTSTAMP:20260421T183832Z
DTSTART;VALUE=DATE:20260504
SUMMARY:Emancipation Day (Cayman Islands)
END:VEVENT
END:VCALENDAR