BEGIN:VCALENDAR
VERSION:2.0
PRODID:-//time.you/holidays//NONSGML v1.0//EN
BEGIN:VEVENT
UID:75c7b70d-5c7d-4f18-b964-aeb3d1654543
DTSTAMP:20260420T084759Z
DTSTART;VALUE=DATE:20250430
SUMMARY:General Election Day (Cayman Islands)
END:VEVENT
END:VCALENDAR