BEGIN:VCALENDAR
VERSION:2.0
PRODID:-//time.you/holidays//NONSGML v1.0//EN
BEGIN:VEVENT
UID:a346d83e-14af-4087-8eb1-357c1e5ec3eb
DTSTAMP:20260419T234857Z
DTSTART;VALUE=DATE:20260622
SUMMARY:King's Birthday (Cayman Islands)
END:VEVENT
END:VCALENDAR