BEGIN:VCALENDAR
VERSION:2.0
PRODID:-//time.you/holidays//NONSGML v1.0//EN
BEGIN:VEVENT
UID:a1c2c1d9-378b-4586-8628-b4d81bc8784b
DTSTAMP:20260420T084753Z
DTSTART;VALUE=DATE:20220606
SUMMARY:Queen's Birthday (Cayman Islands)
END:VEVENT
END:VCALENDAR