BEGIN:VCALENDAR
VERSION:2.0
PRODID:-//time.you/holidays//NONSGML v1.0//EN
BEGIN:VEVENT
UID:070a2ca1-e956-4560-bdba-c9ae22c0a7bc
DTSTAMP:20260419T234150Z
DTSTART;VALUE=DATE:20261109
SUMMARY:Remembrance Day (Cayman Islands)
END:VEVENT
END:VCALENDAR