BEGIN:VCALENDAR
VERSION:2.0
PRODID:-//time.you/holidays//NONSGML v1.0//EN
BEGIN:VEVENT
UID:154b0967-fe7a-4ddc-bb2a-ae6a4a0020ea
DTSTAMP:20260419T234857Z
DTSTART;VALUE=DATE:20261101
SUMMARY:All Saints' Day (Central African Republic)
END:VEVENT
END:VCALENDAR