BEGIN:VCALENDAR
VERSION:2.0
PRODID:-//time.you/holidays//NONSGML v1.0//EN
BEGIN:VEVENT
UID:37dc3d9a-d424-4e66-94e7-abf97a8a5b61
DTSTAMP:20260422T035335Z
DTSTART;VALUE=DATE:20260815
SUMMARY:Assumption Day (Central African Republic)
END:VEVENT
END:VCALENDAR